BEGIN:VCALENDAR
VERSION:2.0
PRODID:-//Burwell Village - ECPv6.15.16.1//NONSGML v1.0//EN
CALSCALE:GREGORIAN
METHOD:PUBLISH
X-WR-CALNAME:Burwell Village
X-ORIGINAL-URL:https://burwellvillageprimary.co.uk
X-WR-CALDESC:Events for Burwell Village
REFRESH-INTERVAL;VALUE=DURATION:PT1H
X-Robots-Tag:noindex
X-PUBLISHED-TTL:PT1H
BEGIN:VTIMEZONE
TZID:Europe/London
BEGIN:DAYLIGHT
TZOFFSETFROM:+0000
TZOFFSETTO:+0100
TZNAME:BST
DTSTART:20220327T010000
END:DAYLIGHT
BEGIN:STANDARD
TZOFFSETFROM:+0100
TZOFFSETTO:+0000
TZNAME:GMT
DTSTART:20221030T010000
END:STANDARD
BEGIN:DAYLIGHT
TZOFFSETFROM:+0000
TZOFFSETTO:+0100
TZNAME:BST
DTSTART:20230326T010000
END:DAYLIGHT
BEGIN:STANDARD
TZOFFSETFROM:+0100
TZOFFSETTO:+0000
TZNAME:GMT
DTSTART:20231029T010000
END:STANDARD
BEGIN:DAYLIGHT
TZOFFSETFROM:+0000
TZOFFSETTO:+0100
TZNAME:BST
DTSTART:20240331T010000
END:DAYLIGHT
BEGIN:STANDARD
TZOFFSETFROM:+0100
TZOFFSETTO:+0000
TZNAME:GMT
DTSTART:20241027T010000
END:STANDARD
END:VTIMEZONE
BEGIN:VEVENT
DTSTART;TZID=Europe/London:20230703T080000
DTEND;TZID=Europe/London:20230704T170000
DTSTAMP:20260422T143051
CREATED:20230131T142658Z
LAST-MODIFIED:20230131T142658Z
UID:1333-1688371200-1688490000@burwellvillageprimary.co.uk
SUMMARY:Year 6 Bottisham Village College - Transition Day
DESCRIPTION:Year 6 Bottisham Village College – Transition Day
URL:https://burwellvillageprimary.co.uk/event/year-6-bottisham-village-college-transition-day/
END:VEVENT
BEGIN:VEVENT
DTSTART;TZID=Europe/London:20230703T141500
DTEND;TZID=Europe/London:20230703T151500
DTSTAMP:20260422T143051
CREATED:20230512T152017Z
LAST-MODIFIED:20230512T152020Z
UID:1715-1688393700-1688397300@burwellvillageprimary.co.uk
SUMMARY:Year 3B Maths Workshop
DESCRIPTION:
URL:https://burwellvillageprimary.co.uk/event/year-3b-maths-workshop/
END:VEVENT
BEGIN:VEVENT
DTSTART;TZID=Europe/London:20230704T141500
DTEND;TZID=Europe/London:20230704T151500
DTSTAMP:20260422T143051
CREATED:20230512T152117Z
LAST-MODIFIED:20230620T124911Z
UID:1717-1688480100-1688483700@burwellvillageprimary.co.uk
SUMMARY:Year 2A Maths Workshop
DESCRIPTION:
URL:https://burwellvillageprimary.co.uk/event/year-2a-maths-workshop/
END:VEVENT
BEGIN:VEVENT
DTSTART;VALUE=DATE:20230705
DTEND;VALUE=DATE:20230706
DTSTAMP:20260422T143051
CREATED:20230616T094032Z
LAST-MODIFIED:20230616T094050Z
UID:1771-1688515200-1688601599@burwellvillageprimary.co.uk
SUMMARY:Year 2 Cambridge Sight Seeing Tour
DESCRIPTION:
URL:https://burwellvillageprimary.co.uk/event/year-2-cambridge-sight-seeing-tour/
END:VEVENT
BEGIN:VEVENT
DTSTART;TZID=Europe/London:20230706T141500
DTEND;TZID=Europe/London:20230706T151500
DTSTAMP:20260422T143051
CREATED:20230512T152215Z
LAST-MODIFIED:20230512T152218Z
UID:1719-1688652900-1688656500@burwellvillageprimary.co.uk
SUMMARY:Year 2B Maths Workshop
DESCRIPTION:
URL:https://burwellvillageprimary.co.uk/event/year-2b-maths-workshop/
END:VEVENT
BEGIN:VEVENT
DTSTART;VALUE=DATE:20230707
DTEND;VALUE=DATE:20230708
DTSTAMP:20260422T143051
CREATED:20230131T142815Z
LAST-MODIFIED:20230615T131616Z
UID:1335-1688688000-1688774399@burwellvillageprimary.co.uk
SUMMARY:Year 6 Soham Village College - Transition Day
DESCRIPTION:Year 6 Soham Village College – Transition Day
URL:https://burwellvillageprimary.co.uk/event/year-6-soham-village-college-transition-day/
END:VEVENT
BEGIN:VEVENT
DTSTART;TZID=Europe/London:20230710T080000
DTEND;TZID=Europe/London:20230713T170000
DTSTAMP:20260422T143051
CREATED:20230131T142904Z
LAST-MODIFIED:20230131T142904Z
UID:1337-1688976000-1689267600@burwellvillageprimary.co.uk
SUMMARY:Year 6 Bikeability
DESCRIPTION:Year 6 Bikeability
URL:https://burwellvillageprimary.co.uk/event/year-6-bikeability/
END:VEVENT
BEGIN:VEVENT
DTSTART;TZID=Europe/London:20230710T141500
DTEND;TZID=Europe/London:20230710T141500
DTSTAMP:20260422T143051
CREATED:20230512T152309Z
LAST-MODIFIED:20230512T152318Z
UID:1721-1688998500-1688998500@burwellvillageprimary.co.uk
SUMMARY:Year 4A Maths Workshop
DESCRIPTION:
URL:https://burwellvillageprimary.co.uk/event/year-4a-maths-workshop/
END:VEVENT
BEGIN:VEVENT
DTSTART;TZID=Europe/London:20230717T143000
DTEND;TZID=Europe/London:20230717T151500
DTSTAMP:20260422T143051
CREATED:20230619T133934Z
LAST-MODIFIED:20230619T133940Z
UID:1790-1689604200-1689606900@burwellvillageprimary.co.uk
SUMMARY:Year 5 and 6 Art Exhibition
DESCRIPTION:
URL:https://burwellvillageprimary.co.uk/event/year-5-and-6-art-exhibition/
END:VEVENT
BEGIN:VEVENT
DTSTART;TZID=Europe/London:20230718T090000
DTEND;TZID=Europe/London:20230718T120000
DTSTAMP:20260422T143051
CREATED:20230621T131225Z
LAST-MODIFIED:20230621T131231Z
UID:1797-1689670800-1689681600@burwellvillageprimary.co.uk
SUMMARY:Year 6 Cinema Trip 18th July 2023
DESCRIPTION:
URL:https://burwellvillageprimary.co.uk/event/year-6-cinema-trip-18th-july-2023/
END:VEVENT
BEGIN:VEVENT
DTSTART;VALUE=DATE:20230719
DTEND;VALUE=DATE:20230720
DTSTAMP:20260422T143051
CREATED:20230131T143624Z
LAST-MODIFIED:20230131T143624Z
UID:1339-1689724800-1689811199@burwellvillageprimary.co.uk
SUMMARY:End of Summer Term
DESCRIPTION:
URL:https://burwellvillageprimary.co.uk/event/end-of-summer-term/
END:VEVENT
END:VCALENDAR