BEGIN:VCALENDAR
VERSION:2.0
PRODID:-//Burwell Village - ECPv6.15.16.1//NONSGML v1.0//EN
CALSCALE:GREGORIAN
METHOD:PUBLISH
X-ORIGINAL-URL:https://burwellvillageprimary.co.uk
X-WR-CALDESC:Events for Burwell Village
REFRESH-INTERVAL;VALUE=DURATION:PT1H
X-Robots-Tag:noindex
X-PUBLISHED-TTL:PT1H
BEGIN:VTIMEZONE
TZID:Europe/London
BEGIN:DAYLIGHT
TZOFFSETFROM:+0000
TZOFFSETTO:+0100
TZNAME:BST
DTSTART:20220327T010000
END:DAYLIGHT
BEGIN:STANDARD
TZOFFSETFROM:+0100
TZOFFSETTO:+0000
TZNAME:GMT
DTSTART:20221030T010000
END:STANDARD
BEGIN:DAYLIGHT
TZOFFSETFROM:+0000
TZOFFSETTO:+0100
TZNAME:BST
DTSTART:20230326T010000
END:DAYLIGHT
BEGIN:STANDARD
TZOFFSETFROM:+0100
TZOFFSETTO:+0000
TZNAME:GMT
DTSTART:20231029T010000
END:STANDARD
BEGIN:DAYLIGHT
TZOFFSETFROM:+0000
TZOFFSETTO:+0100
TZNAME:BST
DTSTART:20240331T010000
END:DAYLIGHT
BEGIN:STANDARD
TZOFFSETFROM:+0100
TZOFFSETTO:+0000
TZNAME:GMT
DTSTART:20241027T010000
END:STANDARD
END:VTIMEZONE
BEGIN:VEVENT
DTSTART;TZID=Europe/London:20231219T093000
DTEND;TZID=Europe/London:20231219T103000
DTSTAMP:20260422T082810
CREATED:20231003T141819Z
LAST-MODIFIED:20231117T144029Z
UID:2158-1702978200-1702981800@burwellvillageprimary.co.uk
SUMMARY:Reception Nativity (9.30 a.m. Performance)
DESCRIPTION:
URL:https://burwellvillageprimary.co.uk/event/reception-nativity-morning-performance/
END:VEVENT
BEGIN:VEVENT
DTSTART;TZID=Europe/London:20231219T140000
DTEND;TZID=Europe/London:20231219T143000
DTSTAMP:20260422T082810
CREATED:20231003T141940Z
LAST-MODIFIED:20231117T143853Z
UID:2160-1702994400-1702996200@burwellvillageprimary.co.uk
SUMMARY:Reception Nativity (2.00 p.m. Performance)
DESCRIPTION:
URL:https://burwellvillageprimary.co.uk/event/reception-nativity-afternoon-performance/
END:VEVENT
END:VCALENDAR