BEGIN:VCALENDAR
VERSION:2.0
PRODID:-//Burwell Village - ECPv6.15.16.1//NONSGML v1.0//EN
CALSCALE:GREGORIAN
METHOD:PUBLISH
X-ORIGINAL-URL:https://burwellvillageprimary.co.uk
X-WR-CALDESC:Events for Burwell Village
REFRESH-INTERVAL;VALUE=DURATION:PT1H
X-Robots-Tag:noindex
X-PUBLISHED-TTL:PT1H
BEGIN:VTIMEZONE
TZID:Europe/London
BEGIN:DAYLIGHT
TZOFFSETFROM:+0000
TZOFFSETTO:+0100
TZNAME:BST
DTSTART:20220327T010000
END:DAYLIGHT
BEGIN:STANDARD
TZOFFSETFROM:+0100
TZOFFSETTO:+0000
TZNAME:GMT
DTSTART:20221030T010000
END:STANDARD
BEGIN:DAYLIGHT
TZOFFSETFROM:+0000
TZOFFSETTO:+0100
TZNAME:BST
DTSTART:20230326T010000
END:DAYLIGHT
BEGIN:STANDARD
TZOFFSETFROM:+0100
TZOFFSETTO:+0000
TZNAME:GMT
DTSTART:20231029T010000
END:STANDARD
BEGIN:DAYLIGHT
TZOFFSETFROM:+0000
TZOFFSETTO:+0100
TZNAME:BST
DTSTART:20240331T010000
END:DAYLIGHT
BEGIN:STANDARD
TZOFFSETFROM:+0100
TZOFFSETTO:+0000
TZNAME:GMT
DTSTART:20241027T010000
END:STANDARD
END:VTIMEZONE
BEGIN:VEVENT
DTSTART;TZID=Europe/London:20231218T113000
DTEND;TZID=Europe/London:20231218T133000
DTSTAMP:20260422T083827
CREATED:20231003T142043Z
LAST-MODIFIED:20231003T142043Z
UID:2162-1702899000-1702906200@burwellvillageprimary.co.uk
SUMMARY:Christmas Lunch
DESCRIPTION:
URL:https://burwellvillageprimary.co.uk/event/christmas-lunch/
END:VEVENT
BEGIN:VEVENT
DTSTART;TZID=Europe/London:20231218T150000
DTEND;TZID=Europe/London:20231218T152000
DTSTAMP:20260422T083827
CREATED:20231003T143236Z
LAST-MODIFIED:20231003T143241Z
UID:2164-1702911600-1702912800@burwellvillageprimary.co.uk
SUMMARY:School Carol Concert
DESCRIPTION:
URL:https://burwellvillageprimary.co.uk/event/school-carol-concert/
END:VEVENT
END:VCALENDAR