BEGIN:VCALENDAR
VERSION:2.0
PRODID:-//Burwell Village - ECPv6.15.16.1//NONSGML v1.0//EN
CALSCALE:GREGORIAN
METHOD:PUBLISH
X-WR-CALNAME:Burwell Village
X-ORIGINAL-URL:https://burwellvillageprimary.co.uk
X-WR-CALDESC:Events for Burwell Village
REFRESH-INTERVAL;VALUE=DURATION:PT1H
X-Robots-Tag:noindex
X-PUBLISHED-TTL:PT1H
BEGIN:VTIMEZONE
TZID:Europe/London
BEGIN:DAYLIGHT
TZOFFSETFROM:+0000
TZOFFSETTO:+0100
TZNAME:BST
DTSTART:20220327T010000
END:DAYLIGHT
BEGIN:STANDARD
TZOFFSETFROM:+0100
TZOFFSETTO:+0000
TZNAME:GMT
DTSTART:20221030T010000
END:STANDARD
BEGIN:DAYLIGHT
TZOFFSETFROM:+0000
TZOFFSETTO:+0100
TZNAME:BST
DTSTART:20230326T010000
END:DAYLIGHT
BEGIN:STANDARD
TZOFFSETFROM:+0100
TZOFFSETTO:+0000
TZNAME:GMT
DTSTART:20231029T010000
END:STANDARD
BEGIN:DAYLIGHT
TZOFFSETFROM:+0000
TZOFFSETTO:+0100
TZNAME:BST
DTSTART:20240331T010000
END:DAYLIGHT
BEGIN:STANDARD
TZOFFSETFROM:+0100
TZOFFSETTO:+0000
TZNAME:GMT
DTSTART:20241027T010000
END:STANDARD
END:VTIMEZONE
BEGIN:VEVENT
DTSTART;TZID=Europe/London:20231018T090000
DTEND;TZID=Europe/London:20231018T123000
DTSTAMP:20260422T111242
CREATED:20230926T133253Z
LAST-MODIFIED:20230926T133256Z
UID:1965-1697619600-1697632200@burwellvillageprimary.co.uk
SUMMARY:Multi Sports Festival (Selected Pupils) Year 4 Coleridge Community College
DESCRIPTION:
URL:https://burwellvillageprimary.co.uk/event/multi-sports-festival-selected-pupils-year-4-coleridge-community-college/
END:VEVENT
END:VCALENDAR