BEGIN:VCALENDAR
VERSION:2.0
PRODID:-//Burwell Village - ECPv6.15.16.1//NONSGML v1.0//EN
CALSCALE:GREGORIAN
METHOD:PUBLISH
X-ORIGINAL-URL:https://burwellvillageprimary.co.uk
X-WR-CALDESC:Events for Burwell Village
REFRESH-INTERVAL;VALUE=DURATION:PT1H
X-Robots-Tag:noindex
X-PUBLISHED-TTL:PT1H
BEGIN:VTIMEZONE
TZID:Europe/London
BEGIN:DAYLIGHT
TZOFFSETFROM:+0000
TZOFFSETTO:+0100
TZNAME:BST
DTSTART:20220327T010000
END:DAYLIGHT
BEGIN:STANDARD
TZOFFSETFROM:+0100
TZOFFSETTO:+0000
TZNAME:GMT
DTSTART:20221030T010000
END:STANDARD
BEGIN:DAYLIGHT
TZOFFSETFROM:+0000
TZOFFSETTO:+0100
TZNAME:BST
DTSTART:20230326T010000
END:DAYLIGHT
BEGIN:STANDARD
TZOFFSETFROM:+0100
TZOFFSETTO:+0000
TZNAME:GMT
DTSTART:20231029T010000
END:STANDARD
BEGIN:DAYLIGHT
TZOFFSETFROM:+0000
TZOFFSETTO:+0100
TZNAME:BST
DTSTART:20240331T010000
END:DAYLIGHT
BEGIN:STANDARD
TZOFFSETFROM:+0100
TZOFFSETTO:+0000
TZNAME:GMT
DTSTART:20241027T010000
END:STANDARD
END:VTIMEZONE
BEGIN:VEVENT
DTSTART;TZID=Europe/London:20231012T083000
DTEND;TZID=Europe/London:20231012T120000
DTSTAMP:20260422T111615
CREATED:20230926T135609Z
LAST-MODIFIED:20230926T135613Z
UID:1987-1697099400-1697112000@burwellvillageprimary.co.uk
SUMMARY:Flu Vaccinations
DESCRIPTION:
URL:https://burwellvillageprimary.co.uk/event/flu-vaccinations/
END:VEVENT
BEGIN:VEVENT
DTSTART;TZID=Europe/London:20231012T133000
DTEND;TZID=Europe/London:20231012T150000
DTSTAMP:20260422T111615
CREATED:20230926T150938Z
LAST-MODIFIED:20230926T150944Z
UID:1994-1697117400-1697122800@burwellvillageprimary.co.uk
SUMMARY:Busy Bees Cafe - Year 2A
DESCRIPTION:
URL:https://burwellvillageprimary.co.uk/event/busy-bees-cafe-year-2a/
END:VEVENT
END:VCALENDAR